BEGIN:VCALENDAR
VERSION:2.0
PRODID:-//ASO HAAG - ECPv6.15.20//NONSGML v1.0//EN
CALSCALE:GREGORIAN
METHOD:PUBLISH
X-WR-CALNAME:ASO HAAG
X-ORIGINAL-URL:https://aso-haag.at
X-WR-CALDESC:Veranstaltungen für ASO HAAG
REFRESH-INTERVAL;VALUE=DURATION:PT1H
X-Robots-Tag:noindex
X-PUBLISHED-TTL:PT1H
BEGIN:VTIMEZONE
TZID:UTC
BEGIN:STANDARD
TZOFFSETFROM:+0000
TZOFFSETTO:+0000
TZNAME:UTC
DTSTART:20250101T000000
END:STANDARD
END:VTIMEZONE
BEGIN:VEVENT
DTSTART;VALUE=DATE:20260303
DTEND;VALUE=DATE:20260304
DTSTAMP:20260420T120615
CREATED:20260228T032508Z
LAST-MODIFIED:20260228T032508Z
UID:1469-1772496000-1772582399@aso-haag.at
SUMMARY:GEKa: Hallenbad Amstetten
DESCRIPTION:
URL:https://aso-haag.at/event/geka-hallenbad-amstetten-2/
END:VEVENT
BEGIN:VEVENT
DTSTART;VALUE=DATE:20260304
DTEND;VALUE=DATE:20260305
DTSTAMP:20260420T120615
CREATED:20260228T032608Z
LAST-MODIFIED:20260228T032635Z
UID:1471-1772582400-1772668799@aso-haag.at
SUMMARY:SHa: Hallenbad Amstetten
DESCRIPTION:
URL:https://aso-haag.at/event/sha-hallend-amstetten/
END:VEVENT
BEGIN:VEVENT
DTSTART;VALUE=DATE:20260312
DTEND;VALUE=DATE:20260313
DTSTAMP:20260420T120615
CREATED:20260228T033259Z
LAST-MODIFIED:20260228T033259Z
UID:1478-1773273600-1773359999@aso-haag.at
SUMMARY:Vortrag: Aufwach(s)en in der digitalen Welt
DESCRIPTION:mit Gerhard Neubauer und Peter Groißböck
URL:https://aso-haag.at/event/vortrag-aufwachsen-in-der-digitalen-welt/
END:VEVENT
BEGIN:VEVENT
DTSTART;VALUE=DATE:20260313
DTEND;VALUE=DATE:20260314
DTSTAMP:20260420T120615
CREATED:20260228T033407Z
LAST-MODIFIED:20260228T033407Z
UID:1480-1773360000-1773446399@aso-haag.at
SUMMARY:SHd: Vollversammlung
DESCRIPTION:
URL:https://aso-haag.at/event/shd-vollversammlung/
END:VEVENT
BEGIN:VEVENT
DTSTART;TZID=UTC:20260320T100000
DTEND;TZID=UTC:20260320T110000
DTSTAMP:20260420T120615
CREATED:20260228T032731Z
LAST-MODIFIED:20260228T032731Z
UID:1473-1774000800-1774004400@aso-haag.at
SUMMARY:Round table
DESCRIPTION:
URL:https://aso-haag.at/event/round-table-3/
END:VEVENT
BEGIN:VEVENT
DTSTART;VALUE=DATE:20260323
DTEND;VALUE=DATE:20260324
DTSTAMP:20260420T120615
CREATED:20260228T080054Z
LAST-MODIFIED:20260228T080117Z
UID:1509-1774224000-1774310399@aso-haag.at
SUMMARY:GEKa: Waldpädagogik
DESCRIPTION:
URL:https://aso-haag.at/event/geka-waldpaedagogik/
END:VEVENT
BEGIN:VEVENT
DTSTART;VALUE=DATE:20260328
DTEND;VALUE=DATE:20260407
DTSTAMP:20260420T120615
CREATED:20260228T032903Z
LAST-MODIFIED:20260228T032903Z
UID:1476-1774656000-1775519999@aso-haag.at
SUMMARY:Osterferien
DESCRIPTION:
URL:https://aso-haag.at/event/osterferien/
END:VEVENT
END:VCALENDAR