BEGIN:VCALENDAR
VERSION:2.0
PRODID:-//ASO HAAG - ECPv6.15.20//NONSGML v1.0//EN
CALSCALE:GREGORIAN
METHOD:PUBLISH
X-WR-CALNAME:ASO HAAG
X-ORIGINAL-URL:https://aso-haag.at
X-WR-CALDESC:Veranstaltungen für ASO HAAG
REFRESH-INTERVAL;VALUE=DURATION:PT1H
X-Robots-Tag:noindex
X-PUBLISHED-TTL:PT1H
BEGIN:VTIMEZONE
TZID:UTC
BEGIN:STANDARD
TZOFFSETFROM:+0000
TZOFFSETTO:+0000
TZNAME:UTC
DTSTART:20240101T000000
END:STANDARD
END:VTIMEZONE
BEGIN:VEVENT
DTSTART;VALUE=DATE:20251104
DTEND;VALUE=DATE:20251105
DTSTAMP:20260420T190923
CREATED:20251030T142027Z
LAST-MODIFIED:20251030T142951Z
UID:1253-1762214400-1762300799@aso-haag.at
SUMMARY:Mokb: Reiten
DESCRIPTION:
URL:https://aso-haag.at/event/mokb-reiten/
END:VEVENT
BEGIN:VEVENT
DTSTART;VALUE=DATE:20251105
DTEND;VALUE=DATE:20251106
DTSTAMP:20260420T190923
CREATED:20251030T142137Z
LAST-MODIFIED:20251030T142137Z
UID:1256-1762300800-1762387199@aso-haag.at
SUMMARY:Fotograf
DESCRIPTION:
URL:https://aso-haag.at/event/fotograf/
END:VEVENT
BEGIN:VEVENT
DTSTART;VALUE=DATE:20251107
DTEND;VALUE=DATE:20251108
DTSTAMP:20260420T190923
CREATED:20251030T142911Z
LAST-MODIFIED:20251030T143012Z
UID:1269-1762473600-1762559999@aso-haag.at
SUMMARY:GEKb / GEKc: JKU Open Lab
DESCRIPTION:
URL:https://aso-haag.at/event/gekb-gekc-jku-open-lab/
END:VEVENT
BEGIN:VEVENT
DTSTART;VALUE=DATE:20251107
DTEND;VALUE=DATE:20251108
DTSTAMP:20260420T190923
CREATED:20251030T143818Z
LAST-MODIFIED:20251030T143818Z
UID:1285-1762473600-1762559999@aso-haag.at
SUMMARY:Gesunde Jause
DESCRIPTION:
URL:https://aso-haag.at/event/gesunde-jause/
END:VEVENT
BEGIN:VEVENT
DTSTART;VALUE=DATE:20251111
DTEND;VALUE=DATE:20251112
DTSTAMP:20260420T190923
CREATED:20251030T142325Z
LAST-MODIFIED:20251030T142325Z
UID:1258-1762819200-1762905599@aso-haag.at
SUMMARY:Apollonia NÖ\, Projekt für Zahngesundheit
DESCRIPTION:
URL:https://aso-haag.at/event/apollonia-noe-projekt-fuer-zahngesundheit/
END:VEVENT
BEGIN:VEVENT
DTSTART;VALUE=DATE:20251112
DTEND;VALUE=DATE:20251113
DTSTAMP:20260420T190923
CREATED:20251030T142346Z
LAST-MODIFIED:20251030T142346Z
UID:1260-1762905600-1762991999@aso-haag.at
SUMMARY:Apollonia NÖ\, Projekt für Zahngesundheit
DESCRIPTION:
URL:https://aso-haag.at/event/apollonia-noe-projekt-fuer-zahngesundheit-2/
END:VEVENT
BEGIN:VEVENT
DTSTART;VALUE=DATE:20251114
DTEND;VALUE=DATE:20251115
DTSTAMP:20260420T190923
CREATED:20251030T142538Z
LAST-MODIFIED:20251030T144920Z
UID:1262-1763078400-1763164799@aso-haag.at
SUMMARY:Baek: Vollversammlung
DESCRIPTION:
URL:https://aso-haag.at/event/vollversammlung/
END:VEVENT
BEGIN:VEVENT
DTSTART;VALUE=DATE:20251114
DTEND;VALUE=DATE:20251115
DTSTAMP:20260420T190923
CREATED:20251030T142640Z
LAST-MODIFIED:20251030T142640Z
UID:1266-1763078400-1763164799@aso-haag.at
SUMMARY:Round Table
DESCRIPTION:
URL:https://aso-haag.at/event/round-table/
END:VEVENT
BEGIN:VEVENT
DTSTART;VALUE=DATE:20251118
DTEND;VALUE=DATE:20251119
DTSTAMP:20260420T190923
CREATED:20251030T143743Z
LAST-MODIFIED:20251030T143743Z
UID:1283-1763424000-1763510399@aso-haag.at
SUMMARY:GEKa: Reiten
DESCRIPTION:
URL:https://aso-haag.at/event/geka-reiten/
END:VEVENT
BEGIN:VEVENT
DTSTART;VALUE=DATE:20251120
DTEND;VALUE=DATE:20251121
DTSTAMP:20260420T190923
CREATED:20251030T143132Z
LAST-MODIFIED:20251030T143132Z
UID:1276-1763596800-1763683199@aso-haag.at
SUMMARY:Bbek: Lesenacht
DESCRIPTION:
URL:https://aso-haag.at/event/bbek-lesenacht/
END:VEVENT
BEGIN:VEVENT
DTSTART;VALUE=DATE:20251121
DTEND;VALUE=DATE:20251122
DTSTAMP:20260420T190923
CREATED:20251030T142554Z
LAST-MODIFIED:20251030T145006Z
UID:1264-1763683200-1763769599@aso-haag.at
SUMMARY:Moka: Vollversammlung / Schulsprecher:innenwahl
DESCRIPTION:
URL:https://aso-haag.at/event/vollversammlung-2/
END:VEVENT
BEGIN:VEVENT
DTSTART;VALUE=DATE:20251126
DTEND;VALUE=DATE:20251127
DTSTAMP:20260420T190923
CREATED:20251030T143314Z
LAST-MODIFIED:20251030T143339Z
UID:1278-1764115200-1764201599@aso-haag.at
SUMMARY:BVJ: AK-Berufsinfomesse Zukunft | Arbeit | Leben
DESCRIPTION:
URL:https://aso-haag.at/event/bvj-berufsinfomesse-zukunft-arbeit-leben/
END:VEVENT
BEGIN:VEVENT
DTSTART;TZID=UTC:20251128T080000
DTEND;TZID=UTC:20251128T160000
DTSTAMP:20260420T190923
CREATED:20251030T143521Z
LAST-MODIFIED:20251030T143521Z
UID:1281-1764316800-1764345600@aso-haag.at
SUMMARY:Adventmarkt
DESCRIPTION:
URL:https://aso-haag.at/event/adventmarkt/
END:VEVENT
END:VCALENDAR