BEGIN:VCALENDAR
VERSION:2.0
PRODID:-//ASO HAAG - ECPv6.15.20//NONSGML v1.0//EN
CALSCALE:GREGORIAN
METHOD:PUBLISH
X-ORIGINAL-URL:https://aso-haag.at
X-WR-CALDESC:Veranstaltungen für ASO HAAG
REFRESH-INTERVAL;VALUE=DURATION:PT1H
X-Robots-Tag:noindex
X-PUBLISHED-TTL:PT1H
BEGIN:VTIMEZONE
TZID:UTC
BEGIN:STANDARD
TZOFFSETFROM:+0000
TZOFFSETTO:+0000
TZNAME:UTC
DTSTART:20240101T000000
END:STANDARD
END:VTIMEZONE
BEGIN:VEVENT
DTSTART;TZID=UTC:20250818T080000
DTEND;TZID=UTC:20250818T170000
DTSTAMP:20260421T005406
CREATED:20250623T110716Z
LAST-MODIFIED:20250623T110716Z
UID:949-1755504000-1755536400@aso-haag.at
SUMMARY:Schulfest
DESCRIPTION:Kommen Sie zu unserem Schulfest!
URL:https://aso-haag.at/event/schulfest/
END:VEVENT
END:VCALENDAR