BEGIN:VCALENDAR
VERSION:2.0
PRODID:-//ASO HAAG - ECPv6.15.20//NONSGML v1.0//EN
CALSCALE:GREGORIAN
METHOD:PUBLISH
X-WR-CALNAME:ASO HAAG
X-ORIGINAL-URL:https://aso-haag.at
X-WR-CALDESC:Veranstaltungen für ASO HAAG
REFRESH-INTERVAL;VALUE=DURATION:PT1H
X-Robots-Tag:noindex
X-PUBLISHED-TTL:PT1H
BEGIN:VTIMEZONE
TZID:UTC
BEGIN:STANDARD
TZOFFSETFROM:+0000
TZOFFSETTO:+0000
TZNAME:UTC
DTSTART:20250101T000000
END:STANDARD
END:VTIMEZONE
BEGIN:VEVENT
DTSTART;TZID=UTC:20260424T100000
DTEND;TZID=UTC:20260424T133000
DTSTAMP:20260420T120601
CREATED:20260327T170344Z
LAST-MODIFIED:20260327T170344Z
UID:1574-1777024800-1777037400@aso-haag.at
SUMMARY:Filmmusikkonzert Chor Haag & Stadtkapelle Haag
DESCRIPTION:
URL:https://aso-haag.at/event/filmmusikkonzert-chor-haag-stadtkapelle-haag/
END:VEVENT
END:VCALENDAR