BEGIN:VCALENDAR
VERSION:2.0
PRODID:-//ASO HAAG - ECPv6.15.20//NONSGML v1.0//EN
CALSCALE:GREGORIAN
METHOD:PUBLISH
X-ORIGINAL-URL:https://aso-haag.at
X-WR-CALDESC:Veranstaltungen für ASO HAAG
REFRESH-INTERVAL;VALUE=DURATION:PT1H
X-Robots-Tag:noindex
X-PUBLISHED-TTL:PT1H
BEGIN:VTIMEZONE
TZID:UTC
BEGIN:STANDARD
TZOFFSETFROM:+0000
TZOFFSETTO:+0000
TZNAME:UTC
DTSTART:20250101T000000
END:STANDARD
END:VTIMEZONE
BEGIN:VEVENT
DTSTART;VALUE=DATE:20260417
DTEND;VALUE=DATE:20260418
DTSTAMP:20260420T120657
CREATED:20251030T144706Z
LAST-MODIFIED:20251030T144706Z
UID:1296-1776384000-1776470399@aso-haag.at
SUMMARY:GEKc: Gesunde Jause
DESCRIPTION:
URL:https://aso-haag.at/event/gekc-gesunde-jause/
END:VEVENT
BEGIN:VEVENT
DTSTART;VALUE=DATE:20260417
DTEND;VALUE=DATE:20260418
DTSTAMP:20260420T120657
CREATED:20260327T165208Z
LAST-MODIFIED:20260327T165208Z
UID:1556-1776384000-1776470399@aso-haag.at
SUMMARY:Round table
DESCRIPTION:
URL:https://aso-haag.at/event/round-table-4/
END:VEVENT
END:VCALENDAR