BEGIN:VCALENDAR
VERSION:2.0
PRODID:-//ASO HAAG - ECPv6.15.20//NONSGML v1.0//EN
CALSCALE:GREGORIAN
METHOD:PUBLISH
X-ORIGINAL-URL:https://aso-haag.at
X-WR-CALDESC:Veranstaltungen für ASO HAAG
REFRESH-INTERVAL;VALUE=DURATION:PT1H
X-Robots-Tag:noindex
X-PUBLISHED-TTL:PT1H
BEGIN:VTIMEZONE
TZID:UTC
BEGIN:STANDARD
TZOFFSETFROM:+0000
TZOFFSETTO:+0000
TZNAME:UTC
DTSTART:20250101T000000
END:STANDARD
END:VTIMEZONE
BEGIN:VEVENT
DTSTART;VALUE=DATE:20260415
DTEND;VALUE=DATE:20260416
DTSTAMP:20260420T120750
CREATED:20260327T165656Z
LAST-MODIFIED:20260327T165656Z
UID:1569-1776211200-1776297599@aso-haag.at
SUMMARY:Apollonia NÖ\, Projekt für Zahngesundheit
DESCRIPTION:
URL:https://aso-haag.at/event/apollonia-noe-projekt-fuer-zahngesundheit-4/
END:VEVENT
END:VCALENDAR