BEGIN:VCALENDAR
VERSION:2.0
PRODID:-//ASO HAAG - ECPv6.15.20//NONSGML v1.0//EN
CALSCALE:GREGORIAN
METHOD:PUBLISH
X-ORIGINAL-URL:https://aso-haag.at
X-WR-CALDESC:Veranstaltungen für ASO HAAG
REFRESH-INTERVAL;VALUE=DURATION:PT1H
X-Robots-Tag:noindex
X-PUBLISHED-TTL:PT1H
BEGIN:VTIMEZONE
TZID:UTC
BEGIN:STANDARD
TZOFFSETFROM:+0000
TZOFFSETTO:+0000
TZNAME:UTC
DTSTART:20250101T000000
END:STANDARD
END:VTIMEZONE
BEGIN:VEVENT
DTSTART;VALUE=DATE:20260217
DTEND;VALUE=DATE:20260218
DTSTAMP:20260420T153649
CREATED:20260212T023603Z
LAST-MODIFIED:20260212T023603Z
UID:1452-1771286400-1771372799@aso-haag.at
SUMMARY:Faschingsfest
DESCRIPTION:
URL:https://aso-haag.at/event/faschingsfest/
END:VEVENT
BEGIN:VEVENT
DTSTART;VALUE=DATE:20260217
DTEND;VALUE=DATE:20260218
DTSTAMP:20260420T153649
CREATED:20260212T023710Z
LAST-MODIFIED:20260212T023710Z
UID:1454-1771286400-1771372799@aso-haag.at
SUMMARY:BVJ: Talentecheck
DESCRIPTION:
URL:https://aso-haag.at/event/bvj-talentecheck/
END:VEVENT
END:VCALENDAR