BEGIN:VCALENDAR
VERSION:2.0
PRODID:-//ASO HAAG - ECPv6.15.20//NONSGML v1.0//EN
CALSCALE:GREGORIAN
METHOD:PUBLISH
X-ORIGINAL-URL:https://aso-haag.at
X-WR-CALDESC:Veranstaltungen für ASO HAAG
REFRESH-INTERVAL;VALUE=DURATION:PT1H
X-Robots-Tag:noindex
X-PUBLISHED-TTL:PT1H
BEGIN:VTIMEZONE
TZID:UTC
BEGIN:STANDARD
TZOFFSETFROM:+0000
TZOFFSETTO:+0000
TZNAME:UTC
DTSTART:20250101T000000
END:STANDARD
END:VTIMEZONE
BEGIN:VEVENT
DTSTART;VALUE=DATE:20260210
DTEND;VALUE=DATE:20260211
DTSTAMP:20260420T153806
CREATED:20260212T023307Z
LAST-MODIFIED:20260212T023307Z
UID:1449-1770681600-1770767999@aso-haag.at
SUMMARY:Theater mit Horizont: Die kleine Meerjungfrau
DESCRIPTION:
URL:https://aso-haag.at/event/theater-mit-horizont-die-kleine-meerjungfrau-2/
END:VEVENT
END:VCALENDAR